BEGIN:VCALENDAR
VERSION:2.0
PRODID:-//Intand Corporation//Tandem//EN
METHOD:PUBLISH
BEGIN:VEVENT
DTSTAMP:20260420T123505Z
DTSTART:20260415T110000Z
DTEND:20260415T120000Z
TRANSP:TRANSPARENT
PRIORITY:0
SUMMARY:Track Practice SH 
LOCATION:Indoor Facility
DESCRIPTION:Groups:\nAthletics: Track & Field - Varsity\n\nSchools:\nLittl
 e Rock Christian Academy\n\nLocation:\nIndoor Facility\n\n
URL;VALUE=URI:https://littlerockchristianacademy.tandem.co/index.php?type=
 view&action=event&id=86972
CREATED:20260413T130052Z
LAST-MODIFIED:20260413T130155Z
UID:event-86972-littlerockchristianacademy@intand.com
END:VEVENT
END:VCALENDAR
